Package: scReClassify Version: 1.12.0 Command: /Library/Frameworks/R.framework/Resources/bin/R CMD build --keep-empty-dirs --no-resave-data scReClassify StartedAt: 2025-01-31 07:38:59 -0500 (Fri, 31 Jan 2025) EndedAt: 2025-01-31 07:42:09 -0500 (Fri, 31 Jan 2025) EllapsedTime: 190.1 seconds RetCode: 0 Status: OK PackageFile: scReClassify_1.12.0.tar.gz PackageFileSize: 2.59 MiB