Package: scReClassify Version: 1.12.0 Command: /home/biocbuild/bbs-3.20-bioc/R/bin/R CMD build --keep-empty-dirs --no-resave-data --md5 scReClassify StartedAt: 2025-01-30 19:04:17 -0500 (Thu, 30 Jan 2025) EndedAt: 2025-01-30 19:06:51 -0500 (Thu, 30 Jan 2025) EllapsedTime: 154.1 seconds RetCode: 0 Status: OK PackageFile: scReClassify_1.12.0.tar.gz PackageFileSize: 2.588 MiB