Package: scReClassify Version: 1.12.0 Command: /home/biocbuild/bbs-3.20-bioc/R/bin/R CMD INSTALL scReClassify StartedAt: 2025-01-30 15:12:59 -0500 (Thu, 30 Jan 2025) EndedAt: 2025-01-30 15:13:18 -0500 (Thu, 30 Jan 2025) EllapsedTime: 19.6 seconds RetCode: 0 Status: OK