Package: scReClassify Version: 1.12.0 Command: rm -rf scReClassify.buildbin-libdir && mkdir scReClassify.buildbin-libdir && F:\biocbuild\bbs-3.20-bioc\R\bin\R.exe CMD INSTALL --build --library=scReClassify.buildbin-libdir scReClassify_1.12.0.tar.gz StartedAt: 2025-01-28 09:06:42 -0500 (Tue, 28 Jan 2025) EndedAt: 2025-01-28 09:07:17 -0500 (Tue, 28 Jan 2025) EllapsedTime: 35.0 seconds RetCode: 0 Status: OK PackageFile: scReClassify_1.12.0.zip PackageFileSize: 2.441 MiB