Package: scReClassify Version: 1.12.0 Command: chmod a+r scReClassify -R && F:\biocbuild\bbs-3.20-bioc\R\bin\R.exe CMD build --keep-empty-dirs --no-resave-data scReClassify StartedAt: 2025-01-30 21:43:49 -0500 (Thu, 30 Jan 2025) EndedAt: 2025-01-30 21:47:48 -0500 (Thu, 30 Jan 2025) EllapsedTime: 238.8 seconds RetCode: 1 Status: ERROR PackageFile: None PackageFileSize: NA