Package: scShapes Version: 1.12.0 Command: /Library/Frameworks/R.framework/Resources/bin/R CMD build --keep-empty-dirs --no-resave-data scShapes StartedAt: 2025-02-04 07:54:21 -0500 (Tue, 04 Feb 2025) EndedAt: 2025-02-04 07:56:28 -0500 (Tue, 04 Feb 2025) EllapsedTime: 127.2 seconds RetCode: 0 Status: OK PackageFile: scShapes_1.12.0.tar.gz PackageFileSize: 29.8 KiB