Package: scShapes Version: 1.12.0 Command: /Library/Frameworks/R.framework/Resources/bin/R CMD build --keep-empty-dirs --no-resave-data scShapes StartedAt: 2025-02-03 22:11:31 -0500 (Mon, 03 Feb 2025) EndedAt: 2025-02-03 22:15:19 -0500 (Mon, 03 Feb 2025) EllapsedTime: 228.2 seconds RetCode: 0 Status: OK PackageFile: scShapes_1.12.0.tar.gz PackageFileSize: 29.9 KiB