Package: scShapes Version: 1.12.0 Command: rm -rf scShapes.buildbin-libdir && mkdir scShapes.buildbin-libdir && F:\biocbuild\bbs-3.20-bioc\R\bin\R.exe CMD INSTALL --build --library=scShapes.buildbin-libdir scShapes_1.12.0.tar.gz StartedAt: 2025-02-11 09:27:08 -0500 (Tue, 11 Feb 2025) EndedAt: 2025-02-11 09:27:25 -0500 (Tue, 11 Feb 2025) EllapsedTime: 17.6 seconds RetCode: 0 Status: OK PackageFile: scShapes_1.12.0.zip PackageFileSize: 77.29 KiB