Package: scanMiR Version: 1.12.0 Command: /Library/Frameworks/R.framework/Resources/bin/R CMD INSTALL scanMiR StartedAt: 2025-01-30 15:59:09 -0500 (Thu, 30 Jan 2025) EndedAt: 2025-01-30 15:59:27 -0500 (Thu, 30 Jan 2025) EllapsedTime: 18.1 seconds RetCode: 0 Status: OK