Package: scanMiR Version: 1.12.0 Command: /Library/Frameworks/R.framework/Resources/bin/R CMD INSTALL scanMiR StartedAt: 2025-01-30 15:31:31 -0500 (Thu, 30 Jan 2025) EndedAt: 2025-01-30 15:32:07 -0500 (Thu, 30 Jan 2025) EllapsedTime: 36.5 seconds RetCode: 0 Status: OK