Package: scanMiR Version: 1.12.0 Command: rm -rf scanMiR.buildbin-libdir && mkdir scanMiR.buildbin-libdir && F:\biocbuild\bbs-3.20-bioc\R\bin\R.exe CMD INSTALL --build --library=scanMiR.buildbin-libdir scanMiR_1.12.0.tar.gz StartedAt: 2025-02-04 09:26:10 -0500 (Tue, 04 Feb 2025) EndedAt: 2025-02-04 09:26:41 -0500 (Tue, 04 Feb 2025) EllapsedTime: 31.1 seconds RetCode: 0 Status: OK PackageFile: scanMiR_1.12.0.zip PackageFileSize: 1.26 MiB