Package: scanMiR Version: 1.12.0 Command: F:\biocbuild\bbs-3.20-bioc\R\bin\R.exe CMD INSTALL scanMiR StartedAt: 2025-02-03 15:56:55 -0500 (Mon, 03 Feb 2025) EndedAt: 2025-02-03 15:57:28 -0500 (Mon, 03 Feb 2025) EllapsedTime: 32.9 seconds RetCode: 0 Status: OK