Package: scanMiR Version: 1.12.0 Command: /home/biocbuild/R/R/bin/R CMD build --keep-empty-dirs --no-resave-data scanMiR StartedAt: 2025-01-31 02:24:25 -0000 (Fri, 31 Jan 2025) EndedAt: 2025-01-31 02:25:02 -0000 (Fri, 31 Jan 2025) EllapsedTime: 37.0 seconds RetCode: 0 Status: OK PackageFile: scanMiR_1.12.0.tar.gz PackageFileSize: 1.061 MiB