Package: scanMiR Version: 1.12.0 Command: /home/biocbuild/R/R/bin/R CMD INSTALL scanMiR StartedAt: 2025-02-03 20:37:34 -0000 (Mon, 03 Feb 2025) EndedAt: 2025-02-03 20:37:54 -0000 (Mon, 03 Feb 2025) EllapsedTime: 20.2 seconds RetCode: 0 Status: OK