Package: scater Version: 1.34.0 Command: /Library/Frameworks/R.framework/Resources/bin/R CMD build --keep-empty-dirs --no-resave-data scater StartedAt: 2025-01-31 07:10:04 -0500 (Fri, 31 Jan 2025) EndedAt: 2025-01-31 07:13:27 -0500 (Fri, 31 Jan 2025) EllapsedTime: 203.2 seconds RetCode: 0 Status: OK PackageFile: scater_1.34.0.tar.gz PackageFileSize: 4.469 MiB