Package: scater Version: 1.34.0 Command: /Library/Frameworks/R.framework/Resources/bin/R CMD INSTALL scater StartedAt: 2025-01-30 16:31:25 -0500 (Thu, 30 Jan 2025) EndedAt: 2025-01-30 16:32:29 -0500 (Thu, 30 Jan 2025) EllapsedTime: 63.5 seconds RetCode: 0 Status: OK