Package: scater Version: 1.34.0 Command: /home/biocbuild/bbs-3.20-bioc/R/bin/R CMD build --keep-empty-dirs --no-resave-data --md5 scater StartedAt: 2025-02-03 19:08:41 -0500 (Mon, 03 Feb 2025) EndedAt: 2025-02-03 19:11:30 -0500 (Mon, 03 Feb 2025) EllapsedTime: 169.2 seconds RetCode: 0 Status: OK PackageFile: scater_1.34.0.tar.gz PackageFileSize: 4.424 MiB