Package: scde Version: 2.34.0 Command: /Library/Frameworks/R.framework/Resources/bin/R CMD INSTALL scde StartedAt: 2025-02-03 17:30:25 -0500 (Mon, 03 Feb 2025) EndedAt: 2025-02-03 17:31:16 -0500 (Mon, 03 Feb 2025) EllapsedTime: 50.8 seconds RetCode: 0 Status: OK