Package: scde Version: 2.34.0 Command: /Library/Frameworks/R.framework/Resources/bin/R CMD INSTALL scde StartedAt: 2025-02-03 16:28:30 -0500 (Mon, 03 Feb 2025) EndedAt: 2025-02-03 16:30:20 -0500 (Mon, 03 Feb 2025) EllapsedTime: 110.1 seconds RetCode: 0 Status: OK