Package: scde Version: 2.34.0 Command: /home/biocbuild/bbs-3.20-bioc/R/bin/R CMD check --install=check:scde.install-out.txt --library=/home/biocbuild/bbs-3.20-bioc/R/site-library --timings scde_2.34.0.tar.gz StartedAt: 2025-02-04 02:09:20 -0500 (Tue, 04 Feb 2025) EndedAt: 2025-02-04 02:11:48 -0500 (Tue, 04 Feb 2025) EllapsedTime: 148.6 seconds RetCode: 0 Status: WARNINGS CheckDir: scde.Rcheck Warnings: 2