Package: scde Version: 2.34.0 Command: /home/biocbuild/bbs-3.20-bioc/R/bin/R CMD INSTALL scde StartedAt: 2025-02-03 15:56:19 -0500 (Mon, 03 Feb 2025) EndedAt: 2025-02-03 15:57:16 -0500 (Mon, 03 Feb 2025) EllapsedTime: 57.3 seconds RetCode: 0 Status: OK