Package: scde Version: 2.34.0 Command: chmod a+r scde -R && F:\biocbuild\bbs-3.20-bioc\R\bin\R.exe CMD build --keep-empty-dirs --no-resave-data scde StartedAt: 2025-02-03 21:54:53 -0500 (Mon, 03 Feb 2025) EndedAt: 2025-02-03 21:54:58 -0500 (Mon, 03 Feb 2025) EllapsedTime: 4.4 seconds RetCode: 0 Status: OK PackageFile: scde_2.34.0.tar.gz PackageFileSize: 1.059 MiB