Package: scde Version: 2.34.0 Command: F:\biocbuild\bbs-3.20-bioc\R\bin\R.exe CMD check --no-multiarch --install=check:scde.install-out.txt --library=F:\biocbuild\bbs-3.20-bioc\R\library --no-vignettes --timings scde_2.34.0.tar.gz StartedAt: 2025-02-04 05:56:14 -0500 (Tue, 04 Feb 2025) EndedAt: 2025-02-04 05:59:23 -0500 (Tue, 04 Feb 2025) EllapsedTime: 189.8 seconds RetCode: 0 Status: WARNINGS CheckDir: scde.Rcheck Warnings: 2