Package: scde Version: 2.34.0 Command: F:\biocbuild\bbs-3.20-bioc\R\bin\R.exe CMD INSTALL scde StartedAt: 2025-02-03 16:13:10 -0500 (Mon, 03 Feb 2025) EndedAt: 2025-02-03 16:14:24 -0500 (Mon, 03 Feb 2025) EllapsedTime: 74.5 seconds RetCode: 0 Status: OK