Package: scde Version: 2.34.0 Command: /home/biocbuild/R/R/bin/R CMD build --keep-empty-dirs --no-resave-data scde StartedAt: 2025-02-04 02:38:38 -0000 (Tue, 04 Feb 2025) EndedAt: 2025-02-04 02:38:40 -0000 (Tue, 04 Feb 2025) EllapsedTime: 2.0 seconds RetCode: 0 Status: OK PackageFile: scde_2.34.0.tar.gz PackageFileSize: 1.059 MiB