Package: scds Version: 1.22.0 Command: /Library/Frameworks/R.framework/Resources/bin/R CMD check --install=check:scds.install-out.txt --library=/Library/Frameworks/R.framework/Resources/library --no-vignettes --timings scds_1.22.0.tar.gz StartedAt: 2025-02-05 09:06:08 -0500 (Wed, 05 Feb 2025) EndedAt: 2025-02-05 09:09:40 -0500 (Wed, 05 Feb 2025) EllapsedTime: 212.1 seconds RetCode: 0 Status: OK CheckDir: scds.Rcheck Warnings: 0