Package: scds Version: 1.22.0 Command: rm -rf scds.buildbin-libdir && mkdir scds.buildbin-libdir && F:\biocbuild\bbs-3.20-bioc\R\bin\R.exe CMD INSTALL --build --library=scds.buildbin-libdir scds_1.22.0.tar.gz StartedAt: 2025-02-04 09:27:15 -0500 (Tue, 04 Feb 2025) EndedAt: 2025-02-04 09:27:44 -0500 (Tue, 04 Feb 2025) EllapsedTime: 29.2 seconds RetCode: 0 Status: OK PackageFile: scds_1.22.0.zip PackageFileSize: 1.101 MiB