Package: scds Version: 1.22.0 Command: chmod a+r scds -R && F:\biocbuild\bbs-3.20-bioc\R\bin\R.exe CMD build --keep-empty-dirs --no-resave-data scds StartedAt: 2025-02-03 21:55:14 -0500 (Mon, 03 Feb 2025) EndedAt: 2025-02-03 21:56:57 -0500 (Mon, 03 Feb 2025) EllapsedTime: 103.3 seconds RetCode: 0 Status: OK PackageFile: scds_1.22.0.tar.gz PackageFileSize: 1.068 MiB