Package: scds Version: 1.22.0 Command: /home/biocbuild/R/R/bin/R CMD build --keep-empty-dirs --no-resave-data scds StartedAt: 2025-02-04 02:39:11 -0000 (Tue, 04 Feb 2025) EndedAt: 2025-02-04 02:40:52 -0000 (Tue, 04 Feb 2025) EllapsedTime: 101.2 seconds RetCode: 0 Status: OK PackageFile: scds_1.22.0.tar.gz PackageFileSize: 1.13 MiB