Package: scds Version: 1.22.0 Command: /home/biocbuild/R/R/bin/R CMD INSTALL scds StartedAt: 2025-02-03 20:34:26 -0000 (Mon, 03 Feb 2025) EndedAt: 2025-02-03 20:34:57 -0000 (Mon, 03 Feb 2025) EllapsedTime: 31.4 seconds RetCode: 0 Status: OK