Package: schex Version: 1.20.0 Command: rm -rf schex.buildbin-libdir && mkdir schex.buildbin-libdir && /Users/biocbuild/BBS/utils/build-universal.sh schex_1.20.0.tar.gz /Library/Frameworks/R.framework/Resources/bin/R schex.buildbin-libdir StartedAt: 2025-02-01 16:45:34 -0500 (Sat, 01 Feb 2025) EndedAt: 2025-02-01 16:46:07 -0500 (Sat, 01 Feb 2025) EllapsedTime: 32.7 seconds RetCode: 0 Status: OK PackageFile: schex_1.20.0.tgz PackageFileSize: 2.407 MiB