Package: schex Version: 1.20.0 Command: /Library/Frameworks/R.framework/Resources/bin/R CMD build --keep-empty-dirs --no-resave-data schex StartedAt: 2025-01-31 07:22:46 -0500 (Fri, 31 Jan 2025) EndedAt: 2025-01-31 07:25:07 -0500 (Fri, 31 Jan 2025) EllapsedTime: 140.5 seconds RetCode: 0 Status: OK PackageFile: schex_1.20.0.tar.gz PackageFileSize: 3.703 MiB