Package: schex Version: 1.20.0 Command: /Library/Frameworks/R.framework/Resources/bin/R CMD check --install=check:schex.install-out.txt --library=/Library/Frameworks/R.framework/Resources/library --no-vignettes --timings schex_1.20.0.tar.gz StartedAt: 2025-02-01 08:19:33 -0500 (Sat, 01 Feb 2025) EndedAt: 2025-02-01 08:28:04 -0500 (Sat, 01 Feb 2025) EllapsedTime: 510.6 seconds RetCode: 0 Status: OK CheckDir: schex.Rcheck Warnings: 0