Package: schex Version: 1.20.0 Command: /Library/Frameworks/R.framework/Resources/bin/R CMD INSTALL schex StartedAt: 2025-01-30 15:38:38 -0500 (Thu, 30 Jan 2025) EndedAt: 2025-01-30 15:39:03 -0500 (Thu, 30 Jan 2025) EllapsedTime: 25.1 seconds RetCode: 0 Status: OK