Package: schex Version: 1.20.0 Command: rm -rf schex.buildbin-libdir && mkdir schex.buildbin-libdir && /Users/biocbuild/BBS/utils/build-universal.sh schex_1.20.0.tar.gz /Library/Frameworks/R.framework/Resources/bin/R schex.buildbin-libdir StartedAt: 2025-01-31 13:38:41 -0500 (Fri, 31 Jan 2025) EndedAt: 2025-01-31 13:39:39 -0500 (Fri, 31 Jan 2025) EllapsedTime: 58.0 seconds RetCode: 0 Status: OK PackageFile: schex_1.20.0.tgz PackageFileSize: 2.396 MiB