Package: schex Version: 1.20.0 Command: /Library/Frameworks/R.framework/Resources/bin/R CMD build --keep-empty-dirs --no-resave-data schex StartedAt: 2025-01-30 22:35:42 -0500 (Thu, 30 Jan 2025) EndedAt: 2025-01-30 22:39:37 -0500 (Thu, 30 Jan 2025) EllapsedTime: 234.7 seconds RetCode: 0 Status: OK PackageFile: schex_1.20.0.tar.gz PackageFileSize: 3.69 MiB