Package: schex Version: 1.20.0 Command: rm -rf schex.buildbin-libdir && mkdir schex.buildbin-libdir && F:\biocbuild\bbs-3.20-bioc\R\bin\R.exe CMD INSTALL --build --library=schex.buildbin-libdir schex_1.20.0.tar.gz StartedAt: 2025-01-31 09:33:28 -0500 (Fri, 31 Jan 2025) EndedAt: 2025-01-31 09:34:03 -0500 (Fri, 31 Jan 2025) EllapsedTime: 34.8 seconds RetCode: 0 Status: OK PackageFile: schex_1.20.0.zip PackageFileSize: 1.604 MiB