Package: schex Version: 1.20.0 Command: /home/biocbuild/R/R/bin/R CMD build --keep-empty-dirs --no-resave-data schex StartedAt: 2025-01-31 02:28:44 -0000 (Fri, 31 Jan 2025) EndedAt: 2025-01-31 02:28:46 -0000 (Fri, 31 Jan 2025) EllapsedTime: 2.0 seconds RetCode: 1 Status: ERROR PackageFile: None PackageFileSize: NA