Package: schex Version: 1.20.0 Command: /home/biocbuild/R/R/bin/R CMD INSTALL schex StartedAt: 2025-01-30 20:19:02 -0000 (Thu, 30 Jan 2025) EndedAt: 2025-01-30 20:19:08 -0000 (Thu, 30 Jan 2025) EllapsedTime: 6.5 seconds RetCode: 1 Status: ERROR