Package: scider Version: 1.4.0 Command: /Library/Frameworks/R.framework/Resources/bin/R CMD build --keep-empty-dirs --no-resave-data scider StartedAt: 2025-02-11 07:29:59 -0500 (Tue, 11 Feb 2025) EndedAt: 2025-02-11 07:31:27 -0500 (Tue, 11 Feb 2025) EllapsedTime: 87.8 seconds RetCode: 0 Status: OK PackageFile: scider_1.4.0.tar.gz PackageFileSize: 2.842 MiB