Package: scider Version: 1.4.0 Command: /Library/Frameworks/R.framework/Resources/bin/R CMD build --keep-empty-dirs --no-resave-data scider StartedAt: 2025-02-03 22:03:47 -0500 (Mon, 03 Feb 2025) EndedAt: 2025-02-03 22:07:23 -0500 (Mon, 03 Feb 2025) EllapsedTime: 216.3 seconds RetCode: 0 Status: OK PackageFile: scider_1.4.0.tar.gz PackageFileSize: 2.83 MiB