Package: scider Version: 1.4.0 Command: /home/biocbuild/bbs-3.20-bioc/R/bin/R CMD INSTALL scider StartedAt: 2025-02-03 16:03:25 -0500 (Mon, 03 Feb 2025) EndedAt: 2025-02-03 16:03:56 -0500 (Mon, 03 Feb 2025) EllapsedTime: 30.9 seconds RetCode: 0 Status: OK