Package: scider Version: 1.4.0 Command: /home/biocbuild/R/R/bin/R CMD INSTALL scider StartedAt: 2025-02-10 21:02:51 -0000 (Mon, 10 Feb 2025) EndedAt: 2025-02-10 21:02:52 -0000 (Mon, 10 Feb 2025) EllapsedTime: 1.2 seconds RetCode: 1 Status: ERROR