Package: scifer Version: 1.8.1 Command: /Library/Frameworks/R.framework/Resources/bin/R CMD build --keep-empty-dirs --no-resave-data scifer StartedAt: 2025-02-04 07:35:25 -0500 (Tue, 04 Feb 2025) EndedAt: 2025-02-04 07:37:05 -0500 (Tue, 04 Feb 2025) EllapsedTime: 100.5 seconds RetCode: 0 Status: OK PackageFile: scifer_1.8.1.tar.gz PackageFileSize: 1.523 MiB