Package: scifer Version: 1.8.1 Command: /Library/Frameworks/R.framework/Resources/bin/R CMD INSTALL scifer StartedAt: 2025-02-10 15:58:09 -0500 (Mon, 10 Feb 2025) EndedAt: 2025-02-10 15:58:43 -0500 (Mon, 10 Feb 2025) EllapsedTime: 34.4 seconds RetCode: 0 Status: OK