Package: scifer Version: 1.8.1 Command: /home/biocbuild/bbs-3.20-bioc/R/bin/R CMD build --keep-empty-dirs --no-resave-data --md5 scifer StartedAt: 2025-02-03 19:11:30 -0500 (Mon, 03 Feb 2025) EndedAt: 2025-02-03 19:13:17 -0500 (Mon, 03 Feb 2025) EllapsedTime: 107.1 seconds RetCode: 0 Status: OK PackageFile: scifer_1.8.1.tar.gz PackageFileSize: 1.504 MiB