Package: scifer Version: 1.8.1 Command: rm -rf scifer.buildbin-libdir && mkdir scifer.buildbin-libdir && F:\biocbuild\bbs-3.20-bioc\R\bin\R.exe CMD INSTALL --build --library=scifer.buildbin-libdir scifer_1.8.1.tar.gz StartedAt: 2025-02-04 09:27:48 -0500 (Tue, 04 Feb 2025) EndedAt: 2025-02-04 09:28:20 -0500 (Tue, 04 Feb 2025) EllapsedTime: 31.4 seconds RetCode: 0 Status: OK PackageFile: scifer_1.8.1.zip PackageFileSize: 1.092 MiB