Package: scifer Version: 1.8.0 Command: /home/biocbuild/bbs-3.20-bioc/R/bin/R CMD build --keep-empty-dirs --no-resave-data scifer StartedAt: 2024-11-19 21:34:48 -0500 (Tue, 19 Nov 2024) EndedAt: 2024-11-19 21:37:36 -0500 (Tue, 19 Nov 2024) EllapsedTime: 167.6 seconds RetCode: 0 Status: OK PackageFile: scifer_1.8.0.tar.gz PackageFileSize: 1.502 MiB