Package: scmap Version: 1.28.0 Command: /Library/Frameworks/R.framework/Resources/bin/R CMD build --keep-empty-dirs --no-resave-data scmap StartedAt: 2025-01-31 07:25:07 -0500 (Fri, 31 Jan 2025) EndedAt: 2025-01-31 07:26:11 -0500 (Fri, 31 Jan 2025) EllapsedTime: 64.1 seconds RetCode: 0 Status: OK PackageFile: scmap_1.28.0.tar.gz PackageFileSize: 2.252 MiB