Package: scmap Version: 1.28.0 Command: /Library/Frameworks/R.framework/Resources/bin/R CMD check --install=check:scmap.install-out.txt --library=/Library/Frameworks/R.framework/Resources/library --no-vignettes --timings scmap_1.28.0.tar.gz StartedAt: 2025-02-05 09:15:44 -0500 (Wed, 05 Feb 2025) EndedAt: 2025-02-05 09:19:09 -0500 (Wed, 05 Feb 2025) EllapsedTime: 204.7 seconds RetCode: 0 Status: OK CheckDir: scmap.Rcheck Warnings: 0